BEGIN:VCALENDAR
VERSION:2.0
PRODID:-//Freie Wählergemeinschaft Brechen - ECPv6.2.9//NONSGML v1.0//EN
CALSCALE:GREGORIAN
METHOD:PUBLISH
X-ORIGINAL-URL:https://www.newchurch.de/wpfwg
X-WR-CALDESC:Veranstaltungen für Freie Wählergemeinschaft Brechen
REFRESH-INTERVAL;VALUE=DURATION:PT1H
X-Robots-Tag:noindex
X-PUBLISHED-TTL:PT1H
BEGIN:VTIMEZONE
TZID:Europe/Berlin
BEGIN:DAYLIGHT
TZOFFSETFROM:+0100
TZOFFSETTO:+0200
TZNAME:CEST
DTSTART:20250330T010000
END:DAYLIGHT
BEGIN:STANDARD
TZOFFSETFROM:+0200
TZOFFSETTO:+0100
TZNAME:CET
DTSTART:20251026T010000
END:STANDARD
END:VTIMEZONE
BEGIN:VEVENT
DTSTART;TZID=Europe/Berlin:20251202T200000
DTEND;TZID=Europe/Berlin:20251202T223000
DTSTAMP:20260420T094000
CREATED:20251024T064151Z
LAST-MODIFIED:20251201T215255Z
UID:1915-1764705600-1764714600@www.newchurch.de
SUMMARY:Sitzung Gemeindevertretung
DESCRIPTION:
URL:https://www.newchurch.de/wpfwg/event/sitzung-gemeindevertretung-9/
LOCATION:Kulturhalle Niederbrechen
END:VEVENT
BEGIN:VEVENT
DTSTART;TZID=Europe/Berlin:20251203T200000
DTEND;TZID=Europe/Berlin:20251203T223000
DTSTAMP:20260420T094000
CREATED:20251024T064256Z
LAST-MODIFIED:20251024T064256Z
UID:1917-1764792000-1764801000@www.newchurch.de
SUMMARY:Haushalts-Infotermin (nicht öffentlich)
DESCRIPTION:
URL:https://www.newchurch.de/wpfwg/event/haushalts-infotermin-nicht-oeffentlich/
LOCATION:Kulturhalle Niederbrechen
END:VEVENT
BEGIN:VEVENT
DTSTART;TZID=Europe/Berlin:20251218T200000
DTEND;TZID=Europe/Berlin:20251218T223000
DTSTAMP:20260420T094000
CREATED:20251024T064402Z
LAST-MODIFIED:20251024T064402Z
UID:1919-1766088000-1766097000@www.newchurch.de
SUMMARY:Ausschuss-Sitzung Haushalt 2026
DESCRIPTION:
URL:https://www.newchurch.de/wpfwg/event/ausschuss-sitzung-haushalt-2026/
LOCATION:Kulturhalle Niederbrechen
END:VEVENT
END:VCALENDAR