BEGIN:VCALENDAR
VERSION:2.0
PRODID:-//Freie Wählergemeinschaft Brechen - ECPv6.2.9//NONSGML v1.0//EN
CALSCALE:GREGORIAN
METHOD:PUBLISH
X-ORIGINAL-URL:https://www.newchurch.de/wpfwg
X-WR-CALDESC:Veranstaltungen für Freie Wählergemeinschaft Brechen
REFRESH-INTERVAL;VALUE=DURATION:PT1H
X-Robots-Tag:noindex
X-PUBLISHED-TTL:PT1H
BEGIN:VTIMEZONE
TZID:Europe/Berlin
BEGIN:DAYLIGHT
TZOFFSETFROM:+0100
TZOFFSETTO:+0200
TZNAME:CEST
DTSTART:20250330T010000
END:DAYLIGHT
BEGIN:STANDARD
TZOFFSETFROM:+0200
TZOFFSETTO:+0100
TZNAME:CET
DTSTART:20251026T010000
END:STANDARD
END:VTIMEZONE
BEGIN:VEVENT
DTSTART;TZID=Europe/Berlin:20250226T190000
DTEND;TZID=Europe/Berlin:20250226T213000
DTSTAMP:20260420T233719
CREATED:20250222T165729Z
LAST-MODIFIED:20250222T165729Z
UID:1768-1740596400-1740605400@www.newchurch.de
SUMMARY:Infotermin Hochwasserschutz Werschau
DESCRIPTION:Am Mittwoch\, den 26. Februar 2025\, um 19 Uhr\, lädt die Gemeinde Brechen alle interessierten Bürgerinnen und Bürger zu einer Informationsveranstaltung zum Thema Hochwasser- und Starkregenschutz ins Dorfgemeinschaftshaus Werschau ein. \nIn Kooperation mit Fachleuten der Unteren Wasserbehörde des Landkreises Limburg-Weilburg wird die Gemeinde aufzeigen\, welche Maßnahmen zum Hochwasser- und Starkregenschutz bereits ergriffen wurden. Zudem werden sinnvolle zukünftige Maßnahmen vorgestellt\, die sowohl von der Gemeinde als auch von den Bürgerinnen und Bürgern umgesetzt werden können. \n„Durch den Klimawandel werden Hochwasser- und Starkregenereignisse in Zukunft häufiger auftreten. Daher ist es unser Ziel\, uns bestmöglich auf diese Herausforderungen vorzubereiten“\, erklärt Bürgermeister Frank Groos. „Wir möchten durch diese Veranstaltung die Bürgerinnen und Bürger informieren. Mir ist aber auch wichtig\, mit den betroffenen Anwohnern\, die im letzten Mai vom Starkregen betroffen waren\, ins Gespräch zu kommen\, um auch deren Erfahrungen und Anregungen bei Lösungen für die Zukunft mit zu berücksichtigen.“ \nDie Gemeinde Brechen lädt alle interessierten Bürgerinnen und Bürger aus Werschau herzlich ein\, an dieser wichtigen Veranstaltung teilzunehmen und sich aktiv in die Diskussion einzubringen.
URL:https://www.newchurch.de/wpfwg/event/infotermin-hochwasserschutz-werschau/
LOCATION:Dorfgemeinschaftshaus Werschau\, Hessenstr.\, Werschau
END:VEVENT
END:VCALENDAR