BEGIN:VCALENDAR
VERSION:2.0
PRODID:-//Freie Wählergemeinschaft Brechen - ECPv6.2.9//NONSGML v1.0//EN
CALSCALE:GREGORIAN
METHOD:PUBLISH
X-ORIGINAL-URL:https://www.newchurch.de/wpfwg
X-WR-CALDESC:Veranstaltungen für Freie Wählergemeinschaft Brechen
REFRESH-INTERVAL;VALUE=DURATION:PT1H
X-Robots-Tag:noindex
X-PUBLISHED-TTL:PT1H
BEGIN:VTIMEZONE
TZID:Europe/Berlin
BEGIN:DAYLIGHT
TZOFFSETFROM:+0100
TZOFFSETTO:+0200
TZNAME:CEST
DTSTART:20240331T010000
END:DAYLIGHT
BEGIN:STANDARD
TZOFFSETFROM:+0200
TZOFFSETTO:+0100
TZNAME:CET
DTSTART:20241027T010000
END:STANDARD
END:VTIMEZONE
BEGIN:VEVENT
DTSTART;TZID=Europe/Berlin:20240702T200000
DTEND;TZID=Europe/Berlin:20240702T220000
DTSTAMP:20260421T153640
CREATED:20240630T090133Z
LAST-MODIFIED:20240630T090801Z
UID:1664-1719950400-1719957600@www.newchurch.de
SUMMARY:Bau- und Umweltausschuss
DESCRIPTION:
URL:https://www.newchurch.de/wpfwg/event/baus-und-umweltausschuss/
LOCATION:Sitzungssaal Altes Rathaus\, Germany
END:VEVENT
END:VCALENDAR